BEGIN:VCALENDAR
VERSION:2.0
PRODID:-//eventon.com NONSGML v1.0//EN
BEGIN:VEVENT
UID:69eb692885e0d
DTSTAMP:20260424T125920
DTSTART:20260514
DTEND:20260516
TZID:Europe/Amsterdam
LOCATION:
SUMMARY:Baja Europe
DESCRIPTION: 14-16 mei –  Baja Europe – Zagan\,  Polen https://baja-europe.com &nbsp;\nhttps://4wdmagazine.nl/agenda/baja-europe/
URL:https://4wdmagazine.nl/agenda/baja-europe/
END:VEVENT
END:VCALENDAR