BEGIN:VCALENDAR
VERSION:2.0
PRODID:-//eventon.com NONSGML v1.0//EN
BEGIN:VEVENT
UID:69eb67f5e5a99
DTSTAMP:20260424T125413
DTSTART:20260510
DTEND:20260510
TZID:Europe/Amsterdam
LOCATION:
SUMMARY:VNTTK Trial - Wamel
DESCRIPTION: 10 mei &#8211; VNTTK Trial &#8211; Wamel 🔗  Info: vnttk.nl\nhttps://4wdmagazine.nl/agenda/vnttk-trial-wamel/
URL:https://4wdmagazine.nl/agenda/vnttk-trial-wamel/
END:VEVENT
END:VCALENDAR