BEGIN:VCALENDAR
VERSION:2.0
PRODID:-//eventon.com NONSGML v1.0//EN
BEGIN:VEVENT
UID:69e7c9a78b9d6
DTSTAMP:20260421T190159
DTSTART:20261108
DTEND:20261108
TZID:Europe/Amsterdam
LOCATION:
SUMMARY:Jeebee evenement
DESCRIPTION: Amersfoort 8-11-26 (nieuwe locatie) Info: www.jeebee.nl &nbsp;\nhttps://4wdmagazine.nl/agenda/jeebee-evenement-5/
URL:https://4wdmagazine.nl/agenda/jeebee-evenement-5/
END:VEVENT
END:VCALENDAR