BEGIN:VCALENDAR
VERSION:2.0
PRODID:-//eventon.com NONSGML v1.0//EN
BEGIN:VEVENT
UID:69e7cab75623a
DTSTAMP:20260421T190631
DTSTART:20261011
DTEND:20261011
TZID:Europe/Amsterdam
LOCATION:
SUMMARY:Jeebee evenement
DESCRIPTION: Oktober nog geen locatie 11-10-26 Info: www.jeebee.nl &nbsp;\nhttps://4wdmagazine.nl/agenda/jeebee-evenement-copy-2/
URL:https://4wdmagazine.nl/agenda/jeebee-evenement-copy-2/
END:VEVENT
END:VCALENDAR