BEGIN:VCALENDAR
VERSION:2.0
PRODID:-//eventon.com NONSGML v1.0//EN
BEGIN:VEVENT
UID:69e7cb1206d7d
DTSTAMP:20260421T190802
DTSTART:20260912
DTEND:20260913
TZID:Europe/Amsterdam
LOCATION:
SUMMARY:Jeebee evenement
DESCRIPTION: Zwartemeer 12 & 13-9-26 Info: www.jeebee.nl &nbsp;\nhttps://4wdmagazine.nl/agenda/jeebee-evenement-4/
URL:https://4wdmagazine.nl/agenda/jeebee-evenement-4/
END:VEVENT
END:VCALENDAR