BEGIN:VCALENDAR
VERSION:2.0
PRODID:-//eventon.com NONSGML v1.0//EN
BEGIN:VEVENT
UID:69e7c8d5d47a3
DTSTAMP:20260421T185829
DTSTART:20260712
DTEND:20260712
TZID:Europe/Amsterdam
LOCATION:
SUMMARY:Jeebee evenement
DESCRIPTION: Juli nog geen locatie 12-7-26 Info: www.jeebee.nl &nbsp;\nhttps://4wdmagazine.nl/agenda/jeebee-evenement-3/
URL:https://4wdmagazine.nl/agenda/jeebee-evenement-3/
END:VEVENT
END:VCALENDAR