BEGIN:VCALENDAR
VERSION:2.0
PRODID:-//eventon.com NONSGML v1.0//EN
BEGIN:VEVENT
UID:69e7cb110764e
DTSTAMP:20260421T190801
DTSTART:20260621
DTEND:20260621
TZID:Europe/Amsterdam
LOCATION:
SUMMARY:Jeebee evenement
DESCRIPTION: Weeze 21-6-26 Info: www.jeebee.nl &nbsp;\nhttps://4wdmagazine.nl/agenda/jeebee-evenement-2/
URL:https://4wdmagazine.nl/agenda/jeebee-evenement-2/
END:VEVENT
END:VCALENDAR