BEGIN:VCALENDAR
VERSION:2.0
PRODID:-//eventon.com NONSGML v1.0//EN
BEGIN:VEVENT
UID:69eb67a73ea6f
DTSTAMP:20260424T125255
DTSTART:20260513
DTEND:20260517
TZID:Europe/Amsterdam
LOCATION:
SUMMARY:Mammut (D) kampeerweekend
DESCRIPTION: Mammut (hemelvaart) 13 t/m17-5-26 Mammut (D) kampeerweekend Jeebee.nl &nbsp;\nhttps://4wdmagazine.nl/agenda/mammut-d-kampeerweekend/
URL:https://4wdmagazine.nl/agenda/mammut-d-kampeerweekend/
END:VEVENT
END:VCALENDAR