BEGIN:VCALENDAR
VERSION:2.0
PRODID:-//eventon.com NONSGML v1.0//EN
BEGIN:VEVENT
UID:69eb6737bf027
DTSTAMP:20260424T125103
DTSTART:20260531
DTEND:20260531
TZID:Europe/Amsterdam
LOCATION:
SUMMARY:ANVT evenement in Heerde
DESCRIPTION: 31 Mei 31 ANVT evenement in Heerde &nbsp;\nhttps://4wdmagazine.nl/agenda/anvt-evenement-in-heerde/
URL:https://4wdmagazine.nl/agenda/anvt-evenement-in-heerde/
END:VEVENT
END:VCALENDAR