BEGIN:VCALENDAR
VERSION:2.0
PRODID:-//eventon.com NONSGML v1.0//EN
BEGIN:VEVENT
UID:69eb695e5156f
DTSTAMP:20260424T130014
DTSTART:20260522
DTEND:20260522
TZID:Europe/Amsterdam
LOCATION:
SUMMARY:20 JAAR G4 CHALLENGE - FAMILIE KAMPEER WEEKEND |
DESCRIPTION: 22 Mei 20 JAAR G4 CHALLENGE &#8211; FAMILIE KAMPEER WEEKEND n.t.b.\nhttps://4wdmagazine.nl/agenda/20-jaar-g4-challenge-familie-kampeer-weekend/
URL:https://4wdmagazine.nl/agenda/20-jaar-g4-challenge-familie-kampeer-weekend/
END:VEVENT
END:VCALENDAR