BEGIN:VCALENDAR
VERSION:2.0
PRODID:-//eventon.com NONSGML v1.0//EN
BEGIN:VEVENT
UID:69eb6959b835d
DTSTAMP:20260424T130009
DTSTART:20260513
DTEND:20260517
TZID:Europe/Amsterdam
LOCATION:
SUMMARY:HEMELVAART WEEKEND
DESCRIPTION: 13 T/M 17-5-26 HEMELVAART WEEKEND LOCATIE N.N.B.\nhttps://4wdmagazine.nl/agenda/hemelvaart-weekend/
URL:https://4wdmagazine.nl/agenda/hemelvaart-weekend/
END:VEVENT
END:VCALENDAR