BEGIN:VCALENDAR
VERSION:2.0
PRODID:-//eventon.com NONSGML v1.0//EN
BEGIN:VEVENT
UID:69eb67eed0215
DTSTAMP:20260424T125406
DTSTART:20260427
DTEND:20260427
TZID:Europe/Amsterdam
LOCATION:
SUMMARY:Offroad-vakantie Denemarken - mei 2026
DESCRIPTION: 27 April Offroad-vakantie Denemarken &#8211; mei 2026 Denemarken; Viborg\,  midden Jutland\nhttps://4wdmagazine.nl/agenda/offroad-vakantie-denemarken-mei-2026/
URL:https://4wdmagazine.nl/agenda/offroad-vakantie-denemarken-mei-2026/
END:VEVENT
END:VCALENDAR