BEGIN:VCALENDAR
VERSION:2.0
PRODID:-//eventon.com NONSGML v1.0//EN
BEGIN:VEVENT
UID:69eb673492196
DTSTAMP:20260424T125100
DTSTART:20260426
DTEND:20260426
TZID:Europe/Amsterdam
LOCATION:
SUMMARY:ANVT evenement in Oss
DESCRIPTION: 26 April ANVT evenement in Oss\nhttps://4wdmagazine.nl/agenda/anvt-evenement-in-oss/
URL:https://4wdmagazine.nl/agenda/anvt-evenement-in-oss/
END:VEVENT
END:VCALENDAR